BEGIN:VCALENDAR
VERSION:2.0
PRODID:-//San Fran Dhammaram Temple - ECPv6.13.2.1//NONSGML v1.0//EN
CALSCALE:GREGORIAN
METHOD:PUBLISH
X-WR-CALNAME:San Fran Dhammaram Temple
X-ORIGINAL-URL:https://watsanfran.org
X-WR-CALDESC:Events for San Fran Dhammaram Temple
REFRESH-INTERVAL;VALUE=DURATION:PT1H
X-Robots-Tag:noindex
X-PUBLISHED-TTL:PT1H
BEGIN:VTIMEZONE
TZID:America/Los_Angeles
BEGIN:DAYLIGHT
TZOFFSETFROM:-0800
TZOFFSETTO:-0700
TZNAME:PDT
DTSTART:20230312T100000
END:DAYLIGHT
BEGIN:STANDARD
TZOFFSETFROM:-0700
TZOFFSETTO:-0800
TZNAME:PST
DTSTART:20231105T090000
END:STANDARD
END:VTIMEZONE
BEGIN:VEVENT
DTSTART;TZID=America/Los_Angeles:20231029T100000
DTEND;TZID=America/Los_Angeles:20231029T140000
DTSTAMP:20260425T180415
CREATED:20230502T201324Z
LAST-MODIFIED:20230504T233026Z
UID:1838-1698573600-1698588000@watsanfran.org
SUMMARY:End of the vassa
DESCRIPTION:Please join us in celebrating the end of the 2023 vassa (rains retreat) at San Fran Dhammaram Temple on Sunday\, October 29. There will be a food offering at 11:00 a.m. and a Dhamma sermon at 11:15 a.m.  \nOn Sunday\, October 29\, there will be a post-vassa alms round in front of the temple at 10:45 a.m. in the Thai “Tak Bat Devo” tradition which commemorates the day in which the Buddha returned to Earth after blessing his mother and other devas in the Tavatimsa heaven during his seventh vassa. \nSchedule \n10:45 a.m. Alms round \n11:00 a.m. Lunch offering \n11:15 a.m. Sermon from Phra Kru Palat Anandapanyo  \n12:00 p.m. Sangha-dana offering
URL:https://watsanfran.org/event/end-of-the-vassa-2/
LOCATION:San Fran Dhammaram Temple\, 2645 Lincoln Way\, San Francisco\, CA\, 94122\, United States
CATEGORIES:Buddhist Holiday,Events,Upcoming Events
ATTACH;FMTTYPE=image/jpeg:https://watsanfran.org/wp-content/uploads/2023/05/วันสำคัญ-5.jpg
END:VEVENT
END:VCALENDAR