BEGIN:VCALENDAR
VERSION:2.0
PRODID:-//San Fran Dhammaram Temple - ECPv6.13.2.1//NONSGML v1.0//EN
CALSCALE:GREGORIAN
METHOD:PUBLISH
X-WR-CALNAME:San Fran Dhammaram Temple
X-ORIGINAL-URL:https://watsanfran.org
X-WR-CALDESC:Events for San Fran Dhammaram Temple
REFRESH-INTERVAL;VALUE=DURATION:PT1H
X-Robots-Tag:noindex
X-PUBLISHED-TTL:PT1H
BEGIN:VTIMEZONE
TZID:America/Los_Angeles
BEGIN:DAYLIGHT
TZOFFSETFROM:-0800
TZOFFSETTO:-0700
TZNAME:PDT
DTSTART:20240310T100000
END:DAYLIGHT
BEGIN:STANDARD
TZOFFSETFROM:-0700
TZOFFSETTO:-0800
TZNAME:PST
DTSTART:20241103T090000
END:STANDARD
END:VTIMEZONE
BEGIN:VEVENT
DTSTART;TZID=America/Los_Angeles:20240225T103000
DTEND;TZID=America/Los_Angeles:20240225T140000
DTSTAMP:20260425T110639
CREATED:20240106T070148Z
LAST-MODIFIED:20240106T070824Z
UID:2021-1708857000-1708869600@watsanfran.org
SUMMARY:Magha Puja
DESCRIPTION:Join us as we commemorate the occasion in which over 2\,500 years ago on the night of the full moon of the third lunar month\, the Buddha’s first 1\,250 enlightened disciples gathered without being summoned and the Buddha delivered the ovada-patimokkha. To honor Magha Puja\, Sunday\, February 25\, 2024\, we still start off with an alms round in front of the temple followed by religious chanting\, a candle procession ceremony\, and the watering of sacred Buddha and arahant relics. \nSchedule \n10:30 a.m. Alms round \n11:00 a.m. Lunch offering \n11:10 a.m. Sermon by Phra Kru Palat Anandapanyo  \n12:00 p.m. Sangha-dana offering \n12:30 a.m. Chanting \n12:45 p.m. Candle procession ceremony \n  \nFor more information call: 415-753-0857 or email: watsanfran@yahoo.com
URL:https://watsanfran.org/event/2021/
LOCATION:San Fran Dhammaram Temple\, 2645 Lincoln Way\, San Francisco\, CA\, 94122\, United States
CATEGORIES:Buddhist Holiday,Events,Upcoming Events
ATTACH;FMTTYPE=image/jpeg:https://watsanfran.org/wp-content/uploads/2024/01/Makha_Puja.jpg
END:VEVENT
END:VCALENDAR