BEGIN:VCALENDAR
VERSION:2.0
PRODID:-//San Fran Dhammaram Temple - ECPv6.13.2.1//NONSGML v1.0//EN
CALSCALE:GREGORIAN
METHOD:PUBLISH
X-ORIGINAL-URL:https://watsanfran.org
X-WR-CALDESC:Events for San Fran Dhammaram Temple
REFRESH-INTERVAL;VALUE=DURATION:PT1H
X-Robots-Tag:noindex
X-PUBLISHED-TTL:PT1H
BEGIN:VTIMEZONE
TZID:America/Los_Angeles
BEGIN:DAYLIGHT
TZOFFSETFROM:-0800
TZOFFSETTO:-0700
TZNAME:PDT
DTSTART:20250309T100000
END:DAYLIGHT
BEGIN:STANDARD
TZOFFSETFROM:-0700
TZOFFSETTO:-0800
TZNAME:PST
DTSTART:20251102T090000
END:STANDARD
END:VTIMEZONE
BEGIN:VEVENT
DTSTART;TZID=America/Los_Angeles:20250216T103000
DTEND;TZID=America/Los_Angeles:20250216T143000
DTSTAMP:20260424T171822
CREATED:20241223T214146Z
LAST-MODIFIED:20250428T043744Z
UID:2355-1739701800-1739716200@watsanfran.org
SUMMARY:Magha Puja
DESCRIPTION:Join us as we commemorate the occasion in which over 2\,500 years ago on the night of the full moon of the third lunar month\, the Buddha’s first 1\,250 enlightened disciples gathered without being summoned and the Buddha delivered the ovada-patimokkha. To honor Magha Puja\, Sunday\, February 16\, 2024\, we still start off with an alms round in front of the temple followed by religious chanting\, a candle procession ceremony\, and the watering of sacred Buddha and arahant relics. \nSchedule \n10:30 a.m. Alms round \n11:00 a.m. Lunch offering \n11:10 a.m. Sermon by Phra Kru Palat Anandapanyo  \n12:00 p.m. Sangha-dana offering \n12:30 a.m. Chanting \n12:45 p.m. Candle procession ceremony \n  \nFor more information call: 415-753-0857 or email: watsanfran@yahoo.com
URL:https://watsanfran.org/event/magha-puja-event/
LOCATION:San Fran Dhammaram Temple\, 2645 Lincoln Way\, San Francisco\, CA\, 94122\, United States
CATEGORIES:Buddhist Holiday,Events,Upcoming Events
ATTACH;FMTTYPE=image/jpeg:https://watsanfran.org/wp-content/uploads/2024/01/Makha_Puja.jpg
ORGANIZER;CN="San Fran Dhammaram Temple":MAILTO:watsanfran@yahoo.com
END:VEVENT
END:VCALENDAR