BEGIN:VCALENDAR
VERSION:2.0
PRODID:-//San Fran Dhammaram Temple - ECPv6.13.2.1//NONSGML v1.0//EN
CALSCALE:GREGORIAN
METHOD:PUBLISH
X-WR-CALNAME:San Fran Dhammaram Temple
X-ORIGINAL-URL:https://watsanfran.org
X-WR-CALDESC:Events for San Fran Dhammaram Temple
REFRESH-INTERVAL;VALUE=DURATION:PT1H
X-Robots-Tag:noindex
X-PUBLISHED-TTL:PT1H
BEGIN:VTIMEZONE
TZID:America/Los_Angeles
BEGIN:DAYLIGHT
TZOFFSETFROM:-0800
TZOFFSETTO:-0700
TZNAME:PDT
DTSTART:20260308T100000
END:DAYLIGHT
BEGIN:STANDARD
TZOFFSETFROM:-0700
TZOFFSETTO:-0800
TZNAME:PST
DTSTART:20261101T090000
END:STANDARD
END:VTIMEZONE
BEGIN:VEVENT
DTSTART;TZID=America/Los_Angeles:20260531T103000
DTEND;TZID=America/Los_Angeles:20260531T130000
DTSTAMP:20260423T180943
CREATED:20260205T040019Z
LAST-MODIFIED:20260205T040158Z
UID:3270-1780223400-1780232400@watsanfran.org
SUMMARY:Visakha Puja Day
DESCRIPTION:Visakha Puja Day marks three major events in the life of the Buddha: the day he was born\, the day he became enlightened\, and the day he entered nibbana. These auspicious events miraculously fall on the same month and day–the full moon day of the sixth lunar month. \nJoin us in commemorating Visakha Puja at San Fran Dhammaram Temple on Sunday\, May 31 with an alms round\, group chanting\, and a traditional candle procession in reverence of the Buddha. \nSchedule — Sunday\, May 31\, 2026\n10:30 a.m. Alms round\n11:00 a.m. Lunch offering\n11:10 a.m. Sermon by Phra Kru Palat Anandapanyo\n12:00 a.m. Sangha-dana offering\n12:30 a.m. Chanting\n12:45 p.m. Candle procession ceremony
URL:https://watsanfran.org/event/visakha-puja-day/
LOCATION:San Fran Dhammaram Temple\, 2645 Lincoln Way\, San Francisco\, CA\, 94122\, United States
CATEGORIES:Buddhist Holiday,Events,Upcoming Events
ATTACH;FMTTYPE=image/jpeg:https://watsanfran.org/wp-content/uploads/2026/02/Visakha_Puja.jpg
ORGANIZER;CN="San Fran Dhammaram Temple":MAILTO:watsanfran@yahoo.com
END:VEVENT
END:VCALENDAR