BEGIN:VCALENDAR
VERSION:2.0
PRODID:-//San Fran Dhammaram Temple - ECPv6.13.2.1//NONSGML v1.0//EN
CALSCALE:GREGORIAN
METHOD:PUBLISH
X-WR-CALNAME:San Fran Dhammaram Temple
X-ORIGINAL-URL:https://watsanfran.org
X-WR-CALDESC:Events for San Fran Dhammaram Temple
REFRESH-INTERVAL;VALUE=DURATION:PT1H
X-Robots-Tag:noindex
X-PUBLISHED-TTL:PT1H
BEGIN:VTIMEZONE
TZID:America/Los_Angeles
BEGIN:DAYLIGHT
TZOFFSETFROM:-0800
TZOFFSETTO:-0700
TZNAME:PDT
DTSTART:20260308T100000
END:DAYLIGHT
BEGIN:STANDARD
TZOFFSETFROM:-0700
TZOFFSETTO:-0800
TZNAME:PST
DTSTART:20261101T090000
END:STANDARD
END:VTIMEZONE
BEGIN:VEVENT
DTSTART;TZID=America/Los_Angeles:20261026T103000
DTEND;TZID=America/Los_Angeles:20261026T130000
DTSTAMP:20260425T081853
CREATED:20260205T045904Z
LAST-MODIFIED:20260205T045904Z
UID:3292-1793010600-1793019600@watsanfran.org
SUMMARY:End of the Vassa
DESCRIPTION:Please join us in celebrating the end of the 2026 vassa (rains retreat) at San Fran Dhammaram Temple on Monday\, October 26. There will be an alms round in front of the temple at 10:45 a.m. in the “Tak Bat Devo” tradition. This will commemorate the day the Buddha returned to Earth after blessing his mother and other devas in the Tavatimsa heaven during his seventh rains retreat. The event will include a food offering and a Dhamma sermon. \nSchedule — Monday\, October 26\, 2026\n10:45 a.m. Alms round\n11:00 a.m. Lunch offering\n11:15 a.m. Sermon by Phra Kru Palat Anandapanyo\n12:00 p.m. Sangha-dana offering
URL:https://watsanfran.org/event/end-of-the-vassa-3/
LOCATION:San Fran Dhammaram Temple\, 2645 Lincoln Way\, San Francisco\, CA\, 94122\, United States
CATEGORIES:Buddhist Holiday,Events,Upcoming Events
ATTACH;FMTTYPE=image/png:https://watsanfran.org/wp-content/uploads/2026/02/End-of-the-Vassa-scaled.png
ORGANIZER;CN="San Fran Dhammaram Temple":MAILTO:watsanfran@yahoo.com
END:VEVENT
END:VCALENDAR