BEGIN:VCALENDAR
VERSION:2.0
PRODID:-//San Fran Dhammaram Temple - ECPv6.13.2.1//NONSGML v1.0//EN
CALSCALE:GREGORIAN
METHOD:PUBLISH
X-WR-CALNAME:San Fran Dhammaram Temple
X-ORIGINAL-URL:https://watsanfran.org
X-WR-CALDESC:Events for San Fran Dhammaram Temple
REFRESH-INTERVAL;VALUE=DURATION:PT1H
X-Robots-Tag:noindex
X-PUBLISHED-TTL:PT1H
BEGIN:VTIMEZONE
TZID:America/Los_Angeles
BEGIN:DAYLIGHT
TZOFFSETFROM:-0800
TZOFFSETTO:-0700
TZNAME:PDT
DTSTART:20190310T100000
END:DAYLIGHT
BEGIN:STANDARD
TZOFFSETFROM:-0700
TZOFFSETTO:-0800
TZNAME:PST
DTSTART:20191103T090000
END:STANDARD
END:VTIMEZONE
BEGIN:VEVENT
DTSTART;TZID=America/Los_Angeles:20190714T104000
DTEND;TZID=America/Los_Angeles:20190714T133000
DTSTAMP:20260423T200548
CREATED:20160826T003639Z
LAST-MODIFIED:20190323T010842Z
UID:88-1563100800-1563111000@watsanfran.org
SUMMARY:Asalha Puja Day
DESCRIPTION:Join us in celebrating Asalha Puja Day and the start of Buddhist Lent (“Khao Phansa”) at Wat San Fran. \nSchedule \n10:40 a.m. Alms round\n10:50 a.m. Lunch offering\n11:00 a.m. Sermon\n12:00 p.m. Sanghadana offering\n12:30 p.m. Chanting\n12:45 p.m. Candle procession ceremony \nAsalha Puja Day commemorates the day in which the Buddha gave his first sermon\, the Dhammacakkappavattana Sutta “Setting the Wheel of Dhamma into Motion\,” to his first five disciples. The main topic of this sermon is the Four Noble Truths\, which provide the framework for all of the Buddha’s teachings. At the end of the sermon\, one of the five disciples was able to understand and possess a firm truth in the Dhamma. He then asked to be ordained as a Buddhist monk\, thus establishing the order of monks called the Sangha. \nFollowing Asalha Puja Day is the beginning of the Buddhist Lent\,  a period established by the Buddha in which all monks must stay in one monastery throughout the rainy season. In many monasteries\, monks dedicate this three-month period to intensive Dhamma practice. \nThe commemoration of this annual event includes the offering of candles\, alms\, and charity to monks\, listening to the Buddha’s teachings\, chanting\, and a candle procession to pay homage to the Triple Gem (Buddha\, Dhamma\, and Sangha).
URL:https://watsanfran.org/event/asalha-puja-day/
LOCATION:San Fran Dhammaram Temple\, 2645 Lincoln Way\, San Francisco\, CA\, 94122\, United States
CATEGORIES:Buddhist Holiday,Events,Upcoming Events
ATTACH;FMTTYPE=image/jpeg:https://watsanfran.org/wp-content/uploads/2019/03/asaraha_bucha-2.jpg
ORGANIZER;CN="San Fran Dhammaram Temple":MAILTO:watsanfran@yahoo.com
END:VEVENT
END:VCALENDAR