BEGIN:VCALENDAR
VERSION:2.0
PRODID:-//San Fran Dhammaram Temple - ECPv6.13.2.1//NONSGML v1.0//EN
CALSCALE:GREGORIAN
METHOD:PUBLISH
X-WR-CALNAME:San Fran Dhammaram Temple
X-ORIGINAL-URL:https://watsanfran.org
X-WR-CALDESC:Events for San Fran Dhammaram Temple
REFRESH-INTERVAL;VALUE=DURATION:PT1H
X-Robots-Tag:noindex
X-PUBLISHED-TTL:PT1H
BEGIN:VTIMEZONE
TZID:America/Los_Angeles
BEGIN:DAYLIGHT
TZOFFSETFROM:-0800
TZOFFSETTO:-0700
TZNAME:PDT
DTSTART:20260308T100000
END:DAYLIGHT
BEGIN:STANDARD
TZOFFSETFROM:-0700
TZOFFSETTO:-0800
TZNAME:PST
DTSTART:20261101T090000
END:STANDARD
END:VTIMEZONE
BEGIN:VEVENT
DTSTART;VALUE=DATE:20260608
DTEND;VALUE=DATE:20260615
DTSTAMP:20260423T163039
CREATED:20260205T041054Z
LAST-MODIFIED:20260205T051244Z
UID:3274-1780876800-1781481599@watsanfran.org
SUMMARY:The 2026 KPY USA Annual Retreat
DESCRIPTION:June 8–14\, 2026 \nEvery year since our teacher\, Venerable Acariya Thoon Khippapañño\, came to the USA\, our community has held pañña (wisdom) style retreats. In these retreats\, we gather and discuss real-world problems\, how to fix them using wisdom\, and learn to address the underlying views that give rise to our issues. \nIn the past\, we held a large annual retreat every year at KPY USA retreat center in Redwood Valley. However\, we lost the retreat center in the large Northern California wildfires in 2017 and have since been holding smaller annual retreats at the temple. This year’s retreat theme is Samma-Saddha\, meaning right faith. \nAll attendees\, please sign up using this registration form: https://forms.gle/LP7mrse2gY1HXwc49 \nวัดซานฟรานธัมมารามขอเชิญเข้าร่วมอบรมปฏิบัติธรรมประจำปีในวันที่ 8-14 มิถุนายน 2569 \nผู้สนใจสมัครเข้าอบรมสามารถลงทะเบียนในแบบฟอร์มด้านล่างนี้\nhttps://forms.gle/LP7mrse2gY1HXwc49
URL:https://watsanfran.org/event/3274/
LOCATION:San Fran Dhammaram Temple\, 2645 Lincoln Way\, San Francisco\, CA\, 94122\, United States
CATEGORIES:Dhamma Retreat,Events,Upcoming Events
ATTACH;FMTTYPE=image/jpeg:https://watsanfran.org/wp-content/uploads/2026/02/Retreat-2026-Graphic.jpg
ORGANIZER;CN="San Fran Dhammaram Temple":MAILTO:watsanfran@yahoo.com
END:VEVENT
END:VCALENDAR