BEGIN:VCALENDAR
VERSION:2.0
PRODID:-//San Fran Dhammaram Temple - ECPv6.13.2.1//NONSGML v1.0//EN
CALSCALE:GREGORIAN
METHOD:PUBLISH
X-ORIGINAL-URL:https://watsanfran.org
X-WR-CALDESC:Events for San Fran Dhammaram Temple
REFRESH-INTERVAL;VALUE=DURATION:PT1H
X-Robots-Tag:noindex
X-PUBLISHED-TTL:PT1H
BEGIN:VTIMEZONE
TZID:UTC
BEGIN:STANDARD
TZOFFSETFROM:+0000
TZOFFSETTO:+0000
TZNAME:UTC
DTSTART:20150101T000000
END:STANDARD
END:VTIMEZONE
BEGIN:VEVENT
DTSTART;TZID=UTC:20151215T190000
DTEND;TZID=UTC:20151215T203000
DTSTAMP:20260424T025547
CREATED:20160826T022134Z
LAST-MODIFIED:20160914T025459Z
UID:104-1450206000-1450211400@watsanfran.org
SUMMARY:Memorial Service in Honor ofHis Holiness Somdet Phra Nyanasamvara
DESCRIPTION:On the occasion of the Royal Cremation of His Holiness Somdet Phra Nyanasamvara\, the Supreme Patriarch of Thailand\, a religious ceremony will be held at 7pm on December 15\, 2015 at San Fran Dhammaram Temple so that members of the public can pay respect to the late Supreme Patriarch. The activities include chanting\, flower offering\, and listening to dhamma teachings.
URL:https://watsanfran.org/event/memorial-service-in-honor-ofhis-holiness-somdet-phra-nyanasamvara/
LOCATION:San Fran Dhammaram Temple\, 2645 Lincoln Way\, San Francisco\, CA\, 94122\, United States
CATEGORIES:Events,Memorial Service,Past Events
ORGANIZER;CN="San Fran Dhammaram Temple":MAILTO:watsanfran@yahoo.com
END:VEVENT
END:VCALENDAR