BEGIN:VCALENDAR
VERSION:2.0
PRODID:-//San Fran Dhammaram Temple - ECPv6.13.2.1//NONSGML v1.0//EN
CALSCALE:GREGORIAN
METHOD:PUBLISH
X-WR-CALNAME:San Fran Dhammaram Temple
X-ORIGINAL-URL:https://watsanfran.org
X-WR-CALDESC:Events for San Fran Dhammaram Temple
REFRESH-INTERVAL;VALUE=DURATION:PT1H
X-Robots-Tag:noindex
X-PUBLISHED-TTL:PT1H
BEGIN:VTIMEZONE
TZID:America/Los_Angeles
BEGIN:DAYLIGHT
TZOFFSETFROM:-0800
TZOFFSETTO:-0700
TZNAME:PDT
DTSTART:20250309T100000
END:DAYLIGHT
BEGIN:STANDARD
TZOFFSETFROM:-0700
TZOFFSETTO:-0800
TZNAME:PST
DTSTART:20251102T090000
END:STANDARD
END:VTIMEZONE
BEGIN:VEVENT
DTSTART;TZID=America/Los_Angeles:20250413T103000
DTEND;TZID=America/Los_Angeles:20250413T150000
DTSTAMP:20260424T154426
CREATED:20241223T214642Z
LAST-MODIFIED:20250327T062216Z
UID:2362-1744540200-1744556400@watsanfran.org
SUMMARY:Thai New Year (Songkran)
DESCRIPTION:Start off the Thai New Year (Songkran) at San Fran Dhammaram Temple on Sunday\, April 13\, 2025 by giving alms and participating in the traditional watering ritual in which water is poured on the Buddha’s relics\, monks\, nuns\, and elders as a sign of respect and to ask for good luck and prosperity. \nWat San Fran School and students will have food stations offering a variety of delicious Thai curries\, sweet treats\, and refreshing Thai iced tea—all part of a fundraiser to benefit the school. Help the future generation of Thai Buddhists learn about its culture and traditions. \nAfter the ceremonies and lunch\, head over to Elk Glen Picnic Area in Golden Gate Park for an afternoon of fun and water games. \n*If you plan to participate in the games at the park\, be sure to bring some spare clothes! \nSchedule\n10:30 a.m. Alms round\n11:00 a.m. Lunch offering\n11:10 a.m. Sermon by Phra Kru Palat Anandapanyo\n12:00 p.m. Sangha-dana offering\n12:30 p.m. Sacred watering ceremony\n1:30 p.m. Fun and games at the Elk Glen Picnic Area in Golden Gate Park \nFor more information call: (415) 753-0857 or email: watsanfran@yahoo.com
URL:https://watsanfran.org/event/thai-new-year-songkran-2/
LOCATION:San Fran Dhammaram Temple\, 2645 Lincoln Way\, San Francisco\, CA\, 94122\, United States
CATEGORIES:Events,Thai Holiday,Upcoming Events
ATTACH;FMTTYPE=image/jpeg:https://watsanfran.org/wp-content/uploads/2025/03/Songkran-2025_EN-scaled.jpg
ORGANIZER;CN="San Fran Dhammaram Temple":MAILTO:watsanfran@yahoo.com
END:VEVENT
END:VCALENDAR